BEGIN:VCALENDAR
VERSION:2.0
PRODID:-//KiTa Waxweiler - ECPv6.15.20//NONSGML v1.0//EN
CALSCALE:GREGORIAN
METHOD:PUBLISH
X-WR-CALNAME:KiTa Waxweiler
X-ORIGINAL-URL:http://kita-waxweiler.de
X-WR-CALDESC:Veranstaltungen für KiTa Waxweiler
REFRESH-INTERVAL;VALUE=DURATION:PT1H
X-Robots-Tag:noindex
X-PUBLISHED-TTL:PT1H
BEGIN:VTIMEZONE
TZID:Europe/Berlin
BEGIN:DAYLIGHT
TZOFFSETFROM:+0100
TZOFFSETTO:+0200
TZNAME:CEST
DTSTART:20220327T010000
END:DAYLIGHT
BEGIN:STANDARD
TZOFFSETFROM:+0200
TZOFFSETTO:+0100
TZNAME:CET
DTSTART:20221030T010000
END:STANDARD
BEGIN:DAYLIGHT
TZOFFSETFROM:+0100
TZOFFSETTO:+0200
TZNAME:CEST
DTSTART:20230326T010000
END:DAYLIGHT
BEGIN:STANDARD
TZOFFSETFROM:+0200
TZOFFSETTO:+0100
TZNAME:CET
DTSTART:20231029T010000
END:STANDARD
BEGIN:DAYLIGHT
TZOFFSETFROM:+0100
TZOFFSETTO:+0200
TZNAME:CEST
DTSTART:20240331T010000
END:DAYLIGHT
BEGIN:STANDARD
TZOFFSETFROM:+0200
TZOFFSETTO:+0100
TZNAME:CET
DTSTART:20241027T010000
END:STANDARD
BEGIN:DAYLIGHT
TZOFFSETFROM:+0100
TZOFFSETTO:+0200
TZNAME:CEST
DTSTART:20250330T010000
END:DAYLIGHT
BEGIN:STANDARD
TZOFFSETFROM:+0200
TZOFFSETTO:+0100
TZNAME:CET
DTSTART:20251026T010000
END:STANDARD
BEGIN:DAYLIGHT
TZOFFSETFROM:+0100
TZOFFSETTO:+0200
TZNAME:CEST
DTSTART:20260329T010000
END:DAYLIGHT
BEGIN:STANDARD
TZOFFSETFROM:+0200
TZOFFSETTO:+0100
TZNAME:CET
DTSTART:20261025T010000
END:STANDARD
BEGIN:DAYLIGHT
TZOFFSETFROM:+0100
TZOFFSETTO:+0200
TZNAME:CEST
DTSTART:20270328T010000
END:DAYLIGHT
BEGIN:STANDARD
TZOFFSETFROM:+0200
TZOFFSETTO:+0100
TZNAME:CET
DTSTART:20271031T010000
END:STANDARD
END:VTIMEZONE
BEGIN:VEVENT
DTSTART;VALUE=DATE:20251224
DTEND;VALUE=DATE:20260103
DTSTAMP:20260424T132325
CREATED:20230919T134121Z
LAST-MODIFIED:20250110T134414Z
UID:538-1766534400-1767398399@kita-waxweiler.de
SUMMARY:Weihnachtsferien - Kita geschlossen
DESCRIPTION:
URL:http://kita-waxweiler.de/event/weihnachtsferien-kita-geschlossen/
END:VEVENT
BEGIN:VEVENT
DTSTART;VALUE=DATE:20251013
DTEND;VALUE=DATE:20251019
DTSTAMP:20260424T132325
CREATED:20220927T115519Z
LAST-MODIFIED:20250110T134727Z
UID:460-1760313600-1760831999@kita-waxweiler.de
SUMMARY:Herbstferien -Kita geschlossen!
DESCRIPTION:
URL:http://kita-waxweiler.de/event/herbstferien-2/
END:VEVENT
BEGIN:VEVENT
DTSTART;VALUE=DATE:20251003
DTEND;VALUE=DATE:20251004
DTSTAMP:20260424T132325
CREATED:20220927T115338Z
LAST-MODIFIED:20250110T134623Z
UID:458-1759449600-1759535999@kita-waxweiler.de
SUMMARY:Tag der deutschen Einheit - Kita geschlossen
DESCRIPTION:
URL:http://kita-waxweiler.de/event/tag-der-deutschen-einheit-kita-geschlossen/
END:VEVENT
BEGIN:VEVENT
DTSTART;VALUE=DATE:20250721
DTEND;VALUE=DATE:20250809
DTSTAMP:20260424T132325
CREATED:20220713T060947Z
LAST-MODIFIED:20250110T131331Z
UID:354-1753056000-1754697599@kita-waxweiler.de
SUMMARY:Sommerferien
DESCRIPTION:
URL:http://kita-waxweiler.de/event/sommerferien/
END:VEVENT
BEGIN:VEVENT
DTSTART;VALUE=DATE:20250707
DTEND;VALUE=DATE:20250712
DTSTAMP:20260424T132325
CREATED:20220927T114657Z
LAST-MODIFIED:20250110T131537Z
UID:454-1751846400-1752278399@kita-waxweiler.de
SUMMARY:"Tage der offenen Tür" in Haus 2 (Wechselkinder mit Eltern)
DESCRIPTION:
URL:http://kita-waxweiler.de/event/tage-der-offenen-tuer-in-haus-2-wechselkinder-mit-eltern/
END:VEVENT
BEGIN:VEVENT
DTSTART;VALUE=DATE:20250630
DTEND;VALUE=DATE:20250705
DTSTAMP:20260424T132325
CREATED:20220927T114442Z
LAST-MODIFIED:20250110T131731Z
UID:452-1751241600-1751673599@kita-waxweiler.de
SUMMARY:Schultütenbasteln
DESCRIPTION:
URL:http://kita-waxweiler.de/event/schultuetenbasteln/
END:VEVENT
BEGIN:VEVENT
DTSTART;TZID=Europe/Berlin:20250627T150000
DTEND;TZID=Europe/Berlin:20250628T000000
DTSTAMP:20260424T132325
CREATED:20220927T114256Z
LAST-MODIFIED:20250110T131935Z
UID:450-1751036400-1751068800@kita-waxweiler.de
SUMMARY:Abschlussfeier der Kinder im letzten Kita-Jahr mit anschließender Übernachtung
DESCRIPTION:
URL:http://kita-waxweiler.de/event/abschlussfeier-der-kinder-im-letzten-kita-jahr-mit-anschliessender-uebernachtung/
END:VEVENT
BEGIN:VEVENT
DTSTART;VALUE=DATE:20250619
DTEND;VALUE=DATE:20250620
DTSTAMP:20260424T132325
CREATED:20230919T135910Z
LAST-MODIFIED:20250110T132541Z
UID:574-1750291200-1750377599@kita-waxweiler.de
SUMMARY:Fronleichnam - Kita geschlossen
DESCRIPTION:
URL:http://kita-waxweiler.de/event/fronleichnam-kita-geschlossen/
END:VEVENT
BEGIN:VEVENT
DTSTART;TZID=Europe/Berlin:20250611T083000
DTEND;TZID=Europe/Berlin:20250611T113000
DTSTAMP:20260424T132325
CREATED:20230919T140158Z
LAST-MODIFIED:20250110T132035Z
UID:580-1749630600-1749641400@kita-waxweiler.de
SUMMARY:Eltern-Kind-Vormittag Gruppe Orange
DESCRIPTION:
URL:http://kita-waxweiler.de/event/eltern-kind-vormittag-gruppe-orange/
END:VEVENT
BEGIN:VEVENT
DTSTART;VALUE=DATE:20250608
DTEND;VALUE=DATE:20250609
DTSTAMP:20260424T132325
CREATED:20230919T135743Z
LAST-MODIFIED:20250110T132845Z
UID:570-1749340800-1749427199@kita-waxweiler.de
SUMMARY:Pfingstsonntag - Springprozession
DESCRIPTION:
URL:http://kita-waxweiler.de/event/pfingstsonntag-springprozession/
END:VEVENT
BEGIN:VEVENT
DTSTART;VALUE=DATE:20250530
DTEND;VALUE=DATE:20250531
DTSTAMP:20260424T132325
CREATED:20230919T135951Z
LAST-MODIFIED:20250110T132411Z
UID:577-1748563200-1748649599@kita-waxweiler.de
SUMMARY:Brückentag mit Notgruppe / Voranmeldung erforlderlich
DESCRIPTION:
URL:http://kita-waxweiler.de/event/brueckentag-mit-notgruppe-voranmeldung-erforlderlich/
END:VEVENT
BEGIN:VEVENT
DTSTART;VALUE=DATE:20250529
DTEND;VALUE=DATE:20250530
DTSTAMP:20260424T132325
CREATED:20230919T135523Z
LAST-MODIFIED:20250110T133059Z
UID:566-1748476800-1748563199@kita-waxweiler.de
SUMMARY:Christi Himmelfahrt - Kita geschlossen
DESCRIPTION:
URL:http://kita-waxweiler.de/event/christi-himmelfahrt-kita-geschlossen/
END:VEVENT
BEGIN:VEVENT
DTSTART;TZID=Europe/Berlin:20250521T090000
DTEND;TZID=Europe/Berlin:20250521T113000
DTSTAMP:20260424T132325
CREATED:20220927T114044Z
LAST-MODIFIED:20250110T132254Z
UID:448-1747818000-1747827000@kita-waxweiler.de
SUMMARY:Eltern-Kind-Vormittag Gruppe Gelb
DESCRIPTION:
URL:http://kita-waxweiler.de/event/eltern-kind-vormittag-gruppe-gelb/
END:VEVENT
BEGIN:VEVENT
DTSTART;TZID=Europe/Berlin:20250507T083000
DTEND;TZID=Europe/Berlin:20250507T113000
DTSTAMP:20260424T132325
CREATED:20230919T135429Z
LAST-MODIFIED:20250110T133137Z
UID:564-1746606600-1746617400@kita-waxweiler.de
SUMMARY:Eltern-Kind-Vormittag Gruppe Grün
DESCRIPTION:
URL:http://kita-waxweiler.de/event/eltern-kind-vormittag-gruppe-gruen/
END:VEVENT
BEGIN:VEVENT
DTSTART;VALUE=DATE:20250502
DTEND;VALUE=DATE:20250503
DTSTAMP:20260424T132325
CREATED:20230919T135618Z
LAST-MODIFIED:20250110T133002Z
UID:568-1746144000-1746230399@kita-waxweiler.de
SUMMARY:Brückentag mit Notgruppe / Voranmeldung erforderlich
DESCRIPTION:
URL:http://kita-waxweiler.de/event/brueckentag-mit-notgruppe-voranmeldung-erforderlich/
END:VEVENT
BEGIN:VEVENT
DTSTART;VALUE=DATE:20250418
DTEND;VALUE=DATE:20250422
DTSTAMP:20260424T132325
CREATED:20230919T135150Z
LAST-MODIFIED:20250110T133442Z
UID:558-1744934400-1745279999@kita-waxweiler.de
SUMMARY:Ostern - Kita geschlossen
DESCRIPTION:
URL:http://kita-waxweiler.de/event/ostern-kita-geschlossen/
END:VEVENT
BEGIN:VEVENT
DTSTART;TZID=Europe/Berlin:20250410T080000
DTEND;TZID=Europe/Berlin:20250410T170000
DTSTAMP:20260424T132325
CREATED:20230919T135036Z
LAST-MODIFIED:20250110T133609Z
UID:556-1744272000-1744304400@kita-waxweiler.de
SUMMARY:interne Osterfeier
DESCRIPTION:
URL:http://kita-waxweiler.de/event/interne-osterfeier/
END:VEVENT
BEGIN:VEVENT
DTSTART;TZID=Europe/Berlin:20250409T083000
DTEND;TZID=Europe/Berlin:20250409T113000
DTSTAMP:20260424T132325
CREATED:20230919T135354Z
LAST-MODIFIED:20250110T133225Z
UID:562-1744187400-1744198200@kita-waxweiler.de
SUMMARY:Eltern-Kind-Vormittag Gruppe Rot
DESCRIPTION:
URL:http://kita-waxweiler.de/event/eltern-kind-vormittag-gruppe-rot/
END:VEVENT
BEGIN:VEVENT
DTSTART;TZID=Europe/Berlin:20250403T083000
DTEND;TZID=Europe/Berlin:20250403T113000
DTSTAMP:20260424T132325
CREATED:20230919T135316Z
LAST-MODIFIED:20250110T133316Z
UID:560-1743669000-1743679800@kita-waxweiler.de
SUMMARY:Start der wöchentlichen Besuche der Wechselkinder in Haus 2
DESCRIPTION:
URL:http://kita-waxweiler.de/event/start-der-woechentlichen-besuche-der-wechselkinder-in-haus-2/
END:VEVENT
BEGIN:VEVENT
DTSTART;VALUE=DATE:20250328
DTEND;VALUE=DATE:20250329
DTSTAMP:20260424T132325
CREATED:20230919T134844Z
LAST-MODIFIED:20250110T133756Z
UID:552-1743120000-1743206399@kita-waxweiler.de
SUMMARY:Fotografin / Nachmittags Familien und Geschwisterfotografie
DESCRIPTION:
URL:http://kita-waxweiler.de/event/fotografin-nachmittags-familien-und-geschwisterfotografie/
END:VEVENT
BEGIN:VEVENT
DTSTART;TZID=Europe/Berlin:20250327T080000
DTEND;TZID=Europe/Berlin:20250327T120000
DTSTAMP:20260424T132325
CREATED:20230919T134747Z
LAST-MODIFIED:20250110T133652Z
UID:550-1743062400-1743076800@kita-waxweiler.de
SUMMARY:Fotografin
DESCRIPTION:
URL:http://kita-waxweiler.de/event/fotografin/
END:VEVENT
BEGIN:VEVENT
DTSTART;TZID=Europe/Berlin:20250313T083000
DTEND;TZID=Europe/Berlin:20250313T233000
DTSTAMP:20260424T132325
CREATED:20230919T134940Z
LAST-MODIFIED:20250110T133846Z
UID:554-1741854600-1741908600@kita-waxweiler.de
SUMMARY:Eltern-Kind-Vormittag Gruppe Blau
DESCRIPTION:
URL:http://kita-waxweiler.de/event/eltern-kind-vormittag-gruppe-blau/
END:VEVENT
BEGIN:VEVENT
DTSTART;VALUE=DATE:20250304
DTEND;VALUE=DATE:20250305
DTSTAMP:20260424T132325
CREATED:20230919T134645Z
LAST-MODIFIED:20250110T161430Z
UID:548-1741046400-1741132799@kita-waxweiler.de
SUMMARY:Karnevalsdienstag - Notgruppe / Voranmeldung erforderlich
DESCRIPTION:
URL:http://kita-waxweiler.de/event/karnevalsdienstag-notgruppe-voranmeldung-erforderlich/
END:VEVENT
BEGIN:VEVENT
DTSTART;VALUE=DATE:20250303
DTEND;VALUE=DATE:20250304
DTSTAMP:20260424T132325
CREATED:20230919T134429Z
LAST-MODIFIED:20250110T134122Z
UID:546-1740960000-1741046399@kita-waxweiler.de
SUMMARY:Rosenmontag - Kita geschlossen
DESCRIPTION:
URL:http://kita-waxweiler.de/event/rosenmontag-kita-geschlossen/
END:VEVENT
BEGIN:VEVENT
DTSTART;TZID=Europe/Berlin:20250227T080000
DTEND;TZID=Europe/Berlin:20250227T143000
DTSTAMP:20260424T132325
CREATED:20230919T134356Z
LAST-MODIFIED:20250110T134037Z
UID:544-1740643200-1740666600@kita-waxweiler.de
SUMMARY:Fetten Donnerstag - die Kita schließt um 14:30!
DESCRIPTION:
URL:http://kita-waxweiler.de/event/fetten-donnerstag-die-kita-schliesst-um-1430/
END:VEVENT
BEGIN:VEVENT
DTSTART;VALUE=DATE:20250203
DTEND;VALUE=DATE:20250208
DTSTAMP:20260424T132325
CREATED:20230919T134255Z
LAST-MODIFIED:20250110T134317Z
UID:542-1738540800-1738972799@kita-waxweiler.de
SUMMARY:Elternsprechwoche Haus 2
DESCRIPTION:
URL:http://kita-waxweiler.de/event/elternsprechwoche-haus-2/
END:VEVENT
BEGIN:VEVENT
DTSTART;VALUE=DATE:20250127
DTEND;VALUE=DATE:20250201
DTSTAMP:20260424T132325
CREATED:20230919T134209Z
LAST-MODIFIED:20250110T134216Z
UID:540-1737936000-1738367999@kita-waxweiler.de
SUMMARY:Elternsprechwoche Haus 1
DESCRIPTION:
URL:http://kita-waxweiler.de/event/elternsprechwoche-haus-1/
END:VEVENT
BEGIN:VEVENT
DTSTART;VALUE=DATE:20240622
DTEND;VALUE=DATE:20240623
DTSTAMP:20260424T132325
CREATED:20230919T140231Z
LAST-MODIFIED:20230919T140231Z
UID:582-1719014400-1719100799@kita-waxweiler.de
SUMMARY:Kräuterwanderung in Lünebach
DESCRIPTION:
URL:http://kita-waxweiler.de/event/kraeuterwanderung-in-luenebach/
END:VEVENT
BEGIN:VEVENT
DTSTART;VALUE=DATE:20240520
DTEND;VALUE=DATE:20240521
DTSTAMP:20260424T132325
CREATED:20230919T135832Z
LAST-MODIFIED:20230919T135832Z
UID:572-1716163200-1716249599@kita-waxweiler.de
SUMMARY:Pfingsten - Kita geschlossen
DESCRIPTION:
URL:http://kita-waxweiler.de/event/pfingsten-kita-geschlossen/
END:VEVENT
BEGIN:VEVENT
DTSTART;VALUE=DATE:20231208
DTEND;VALUE=DATE:20231209
DTSTAMP:20260424T132325
CREATED:20230609T064346Z
LAST-MODIFIED:20230609T064346Z
UID:501-1701993600-1702079999@kita-waxweiler.de
SUMMARY:Betriebsausflug - Kita geschlossen
DESCRIPTION:
URL:http://kita-waxweiler.de/event/betriebsausflug-kita-geschlossen/
END:VEVENT
END:VCALENDAR