BEGIN:VCALENDAR
VERSION:2.0
PRODID:-//KiTa Waxweiler - ECPv6.15.20//NONSGML v1.0//EN
CALSCALE:GREGORIAN
METHOD:PUBLISH
X-ORIGINAL-URL:http://kita-waxweiler.de
X-WR-CALDESC:Veranstaltungen für KiTa Waxweiler
REFRESH-INTERVAL;VALUE=DURATION:PT1H
X-Robots-Tag:noindex
X-PUBLISHED-TTL:PT1H
BEGIN:VTIMEZONE
TZID:Europe/Berlin
BEGIN:DAYLIGHT
TZOFFSETFROM:+0100
TZOFFSETTO:+0200
TZNAME:CEST
DTSTART:20220327T010000
END:DAYLIGHT
BEGIN:STANDARD
TZOFFSETFROM:+0200
TZOFFSETTO:+0100
TZNAME:CET
DTSTART:20221030T010000
END:STANDARD
BEGIN:DAYLIGHT
TZOFFSETFROM:+0100
TZOFFSETTO:+0200
TZNAME:CEST
DTSTART:20230326T010000
END:DAYLIGHT
BEGIN:STANDARD
TZOFFSETFROM:+0200
TZOFFSETTO:+0100
TZNAME:CET
DTSTART:20231029T010000
END:STANDARD
BEGIN:DAYLIGHT
TZOFFSETFROM:+0100
TZOFFSETTO:+0200
TZNAME:CEST
DTSTART:20240331T010000
END:DAYLIGHT
BEGIN:STANDARD
TZOFFSETFROM:+0200
TZOFFSETTO:+0100
TZNAME:CET
DTSTART:20241027T010000
END:STANDARD
END:VTIMEZONE
BEGIN:VEVENT
DTSTART;TZID=Europe/Berlin:20231102T080000
DTEND;TZID=Europe/Berlin:20231102T170000
DTSTAMP:20260425T022201
CREATED:20230919T131544Z
LAST-MODIFIED:20230919T131544Z
UID:515-1698912000-1698944400@kita-waxweiler.de
SUMMARY:Haus 2 - Besuch im Altenheim
DESCRIPTION:Die Kinder aus Haus 2 besuchen in das Altenheim Herz-Jesu und die Seniorenresidenz Haupt in Waxweiler mit ihren Laternen und singen dort Martinslieder.
URL:http://kita-waxweiler.de/event/haus-2-besuch-im-altenheim/
END:VEVENT
BEGIN:VEVENT
DTSTART;TZID=Europe/Berlin:20231107T090000
DTEND;TZID=Europe/Berlin:20231107T090000
DTSTAMP:20260425T022201
CREATED:20230919T131644Z
LAST-MODIFIED:20230919T131847Z
UID:517-1699347600-1699347600@kita-waxweiler.de
SUMMARY:Start der Wechselkinder-Aktionen
DESCRIPTION:
URL:http://kita-waxweiler.de/event/interne-st-martins-feier-in-der-kita/
END:VEVENT
BEGIN:VEVENT
DTSTART;TZID=Europe/Berlin:20231108T200000
DTEND;TZID=Europe/Berlin:20231108T200000
DTSTAMP:20260425T022201
CREATED:20230919T131947Z
LAST-MODIFIED:20230919T132022Z
UID:521-1699473600-1699473600@kita-waxweiler.de
SUMMARY:Elternabend zum Thema "Herausforderndes Verhalten" in Pronsfeld
DESCRIPTION:
URL:http://kita-waxweiler.de/event/elternabend-zum-thema-herausforderndes-verhalten-in-pronsfeld/
END:VEVENT
BEGIN:VEVENT
DTSTART;TZID=Europe/Berlin:20231109T080000
DTEND;TZID=Europe/Berlin:20231109T170000
DTSTAMP:20260425T022201
CREATED:20230919T132145Z
LAST-MODIFIED:20230919T132145Z
UID:523-1699516800-1699549200@kita-waxweiler.de
SUMMARY:Start des wöchentlichen Schulbesuchs der Kinder im letzten Kita-Jahr
DESCRIPTION:
URL:http://kita-waxweiler.de/event/start-des-woechentlichen-schulbesuchs-der-kinder-im-letzten-kita-jahr/
END:VEVENT
BEGIN:VEVENT
DTSTART;TZID=Europe/Berlin:20231110T180000
DTEND;TZID=Europe/Berlin:20231110T180000
DTSTAMP:20260425T022201
CREATED:20230919T133627Z
LAST-MODIFIED:20230919T133627Z
UID:531-1699639200-1699639200@kita-waxweiler.de
SUMMARY:Martinsumzug in Waxweiler
DESCRIPTION:
URL:http://kita-waxweiler.de/event/martinsumzug-in-waxweiler/
END:VEVENT
END:VCALENDAR